BEGIN:VCALENDAR
VERSION:2.0
PRODID:-//eventon.com NONSGML v1.0//EN
CALSCALE:GREGORIAN
METHOD:PUBLISH
BEGIN:VEVENT
UID:69e8a571e416b
DTSTAMP:20260422T103945Z
DTSTART:20231005T183800Z
DTEND:20231005T215000Z
LOCATION:
SUMMARY:Harry Keaton
DESCRIPTION:"Mein Gehirn und ich" ERSTMALS IM NEUEN THEATER HÖCHST Die ers
 taunliche Show rund um ein unglaubliches Organ.Das Gehirn ist die komplexes
 te Struktur im gesamten Universum. Was wäre\,  wenn Du alles Wissen der We
 lt in Deinen Kopf laden könntest? Also Big Data im eigenen Hirn. Wie wäre
  es\,  wenn Du von[..]\nhttps://zauberblatt.de/veranstaltung/harry-keaton/
URL:https://zauberblatt.de/veranstaltung/harry-keaton/
END:VEVENT
END:VCALENDAR